BEGIN:VCALENDAR
VERSION:2.0
PRODID:-//wp-events-plugin.com//7.2.3.1//EN
TZID:Europe/Paris
X-WR-TIMEZONE:Europe/Paris
BEGIN:VEVENT
UID:229@alternatif-art.com
DTSTART;TZID=Europe/Paris:20260413T000000
DTEND;TZID=Europe/Paris:20260717T000000
DTSTAMP:20260419T123317Z
URL:https://www.alternatif-art.com/agenda-art-contemporain/mel-lesbats-mai
 ller-exister/
SUMMARY:Mel Lesbats : Mailler\, exister
DESCRIPTION:La Friche – Le PortDu 13 avril au 17 juillet 2026\nAvec Maill
 er\, exister\, Mel Lesbats propose une exposition qui interroge avec fines
 se ce qui fait la condition même de toute existence : tenir\, malgré l
 ’instabilité. Dans un monde traversé par les fragilités\, les tension
 s\, les mouvements et les transformations\, l’artiste pose une question 
 simple et essentielle : comment continuer à exister lorsque tout vacille 
 ?\nÀ travers cette exposition\, Mel Lesbats explore la nécessité de “
 mailler”\, c’est-à-dire de relier\, structurer\, soutenir\, maintenir
 . Car pour exister\, il faut tenir \; et pour tenir\, il faut composer ave
 c des équilibres parfois précaires\, des résistances\, des appuis\, des
  circulations. Mailler\, exister parle ainsi de toutes les formes d’exis
 tence\, humaines\, sensibles\, matérielles\, et de tout ce qu’elles mob
 ilisent pour ne pas céder face à l’instabilité du monde.\nL’univers
  plastique de Mel Lesbats s’inscrit dans une recherche singulière autou
 r de la fluidité. Son travail\, centré sur la sculpture fluide\, questio
 nne les frontières entre matière\, perception\, lumière et temps. Là o
 ù la sculpture est traditionnellement associée à la stabilité\, à la 
 prise\, à la solidité\, l’artiste choisit au contraire le liquide\, l
 ’écoulement\, la transformation permanente. Ses œuvres deviennent alor
 s des formes vivantes\, mouvantes\, traversées par la lumière\, la densi
 té\, la couleur et les variations du regard.\nDans Mailler\, exister\, il
  ne s’agit pas d’illustrer un propos\, mais bien de le faire ressentir
 . L’exposition donne à éprouver structurellement le passage d’un liq
 uide qui s’écoule à un liquide qui tient. Ce glissement\, à la fois p
 hysique\, visuel et symbolique\, devient le cœur même de l’expérience
 . Les sculptures de Mel Lesbats invitent ainsi à une perception active\, 
 sensible\, presque méditative\, où la matière semble hésiter entre ins
 tabilité et maintien\, disparition et présence.\nLa couleur y occupe ég
 alement une place essentielle. Travaillée comme substance\, reflet\, tran
 sparence ou projection\, elle participe pleinement à cette expérience de
  la transformation. La lumière traverse les fluides\, projette des halos\
 , modifie les apparences\, révèle des formes fugitives. L’œuvre ne se
  donne jamais tout à fait comme un objet figé : elle vit dans le temps\,
  dans les conditions de lumière\, dans la présence du regardeur.\nAvec c
 ette exposition\, Mel Lesbats poursuit une démarche artistique profondém
 ent liée à la perception et à la matérialité du vivant. Son travail n
 e cherche pas à imposer une lecture fermée\, mais à ouvrir un espace d
 ’expérience\, où chacun peut ressentir ce que signifie tenir\, résist
 er\, se relier\, exister.\nVernissage : samedi 11 avril 2026 à 18hExposit
 ion : du 13 avril au 17 juillet 2026Lieu : La Friche – Le Port
ATTACH;FMTTYPE=image/jpeg:https://www.alternatif-art.com/wp-content/upload
 s/2026/04/mailler-exister.jpg
CATEGORIES:Art contemporain,Expositions
LOCATION:La Friche - Le Port\, 3\, rue Jean Bertho\, Le Port\, 97420\, Fran
 ce
GEO:-20.933261;55.290883
X-APPLE-STRUCTURED-LOCATION;VALUE=URI;X-ADDRESS=3\, rue Jean Bertho\, Le Po
 rt\, 97420\, France;X-APPLE-RADIUS=100;X-TITLE=La Friche - Le Port:geo:-20
 .933261,55.290883
END:VEVENT
BEGIN:VTIMEZONE
TZID:Europe/Paris
X-LIC-LOCATION:Europe/Paris
BEGIN:DAYLIGHT
DTSTART:20260329T030000
TZOFFSETFROM:+0100
TZOFFSETTO:+0200
TZNAME:CEST
END:DAYLIGHT
END:VTIMEZONE
END:VCALENDAR