BEGIN:VCALENDAR
VERSION:2.0
PRODID:-//wp-events-plugin.com//7.2.3.1//EN
TZID:Europe/Paris
X-WR-TIMEZONE:Europe/Paris
BEGIN:VEVENT
UID:209@alternatif-art.com
DTSTART;TZID=Europe/Paris:20260215T000000
DTEND;TZID=Europe/Paris:20260503T000000
DTSTAMP:20260301T094909Z
URL:https://www.alternatif-art.com/agenda-art-contemporain/le-houeran-expo
 sition-au-conseil-departemental-des-vosges/
SUMMARY:Le Houéran\, Exposition au conseil départemental des Vosges
DESCRIPTION:Ce projet photographique s’appuie sur la redécouverte d’un
  mythe local oublié : le Houéran\, figure mi-homme mi-animal associée a
 ux forêts vosgiennes.\n\nÀ travers cette présence symbolique\, le trava
 il interroge notre relation contemporaine à un territoire forestier en mu
 tation.\n\nDéveloppée sur plusieurs années\, la série repose sur une i
 mmersion régulière dans le massif vosgien et sur des échanges avec des 
 acteurs du monde forestier. Elle aborde les problématiques actuelles qui 
 traversent la forêt\, tout en intégrant une dimension imaginaire.\n\nÀ 
 la croisée d’une approche documentaire et d’une recherche fictionnell
 e\, les images mettent en dialogue l’observation du réel et la persista
 nce d’un imaginaire légendaire.\n\nLe Houéran y apparaît comme une fi
 gure en réémergence\, une manière de réactiver un lien symbolique entr
 e l’humain et la mémoire du vivant.\n\nPlus d'infos : https://culturecn
 ous.vosges.fr/evenements/exposition-darthur-perrin-le-houeran/\n[dflip id=
 "23124"][/dflip]
ATTACH;FMTTYPE=image/jpeg:https://www.alternatif-art.com/wp-content/upload
 s/2026/03/2026_Flyer_Expos_CD88_Arthur-Perrin_page-0001-358cb61b616bf01a47
 17d7f76da9a95d.jpg
CATEGORIES:Art contemporain,Expositions
LOCATION:Conseil département des Vosges\, 8 rue de la préfécture \, Epin
 al\, 88000\, France
GEO:48.171414;6.449413
X-APPLE-STRUCTURED-LOCATION;VALUE=URI;X-ADDRESS=8 rue de la préfécture \,
  Epinal\, 88000\, France;X-APPLE-RADIUS=100;X-TITLE=Conseil département d
 es Vosges:geo:48.171414,6.449413
END:VEVENT
BEGIN:VTIMEZONE
TZID:Europe/Paris
X-LIC-LOCATION:Europe/Paris
BEGIN:STANDARD
DTSTART:20251026T020000
TZOFFSETFROM:+0200
TZOFFSETTO:+0100
TZNAME:CET
END:STANDARD
BEGIN:DAYLIGHT
DTSTART:20260329T030000
TZOFFSETFROM:+0100
TZOFFSETTO:+0200
TZNAME:CEST
END:DAYLIGHT
END:VTIMEZONE
END:VCALENDAR