BEGIN:VCALENDAR
VERSION:2.0
PRODID:-//wp-events-plugin.com//7.2.3.1//EN
TZID:Europe/Paris
X-WR-TIMEZONE:Europe/Paris
BEGIN:VEVENT
UID:232@alternatif-art.com
DTSTART;TZID=Europe/Paris:20260420T000000
DTEND;TZID=Europe/Paris:20260510T000000
DTSTAMP:20260420T141648Z
URL:https://www.alternatif-art.com/agenda-art-contemporain/la-paix-femmes-
 en-creation/
SUMMARY:La Paix ! Femmes en création
DESCRIPTION:Du 20 avril au 10 mai 2026\, L’Orangerie de Cachan accueille 
 l’exposition La Paix ! Femmes en création\, proposée par l’associati
 on Itinéraires-art contemporain.\n\nCette exposition réunit quatorze fem
 mes artistes autour d’une réflexion sensible et engagée sur la paix\, 
 les violences du monde\, mais aussi sur la résilience\, la solidarité et
  la reconstruction. À travers des pratiques variées\, les œuvres prése
 ntées ouvrent un espace de dialogue entre récits intimes et enjeux unive
 rsels.\n\n[dflip id="23825"][/dflip]
ATTACH;FMTTYPE=image/jpeg:https://www.alternatif-art.com/wp-content/upload
 s/2026/04/Itineraires-INVITATION-CACHAN-cc612f864cdc2c66e20e8b08ea57957f1.
 jpg
CATEGORIES:Art contemporain,Expositions
END:VEVENT
BEGIN:VTIMEZONE
TZID:Europe/Paris
X-LIC-LOCATION:Europe/Paris
BEGIN:DAYLIGHT
DTSTART:20260329T030000
TZOFFSETFROM:+0100
TZOFFSETTO:+0200
TZNAME:CEST
END:DAYLIGHT
END:VTIMEZONE
END:VCALENDAR