BEGIN:VCALENDAR
VERSION:2.0
PRODID:-//wp-events-plugin.com//7.2.3.1//EN
TZID:Europe/Paris
X-WR-TIMEZONE:Europe/Paris
BEGIN:VEVENT
UID:230@alternatif-art.com
DTSTART;TZID=Europe/Paris:20260506T000000
DTEND;TZID=Europe/Paris:20261101T000000
DTSTAMP:20260419T131217Z
URL:https://www.alternatif-art.com/agenda-art-contemporain/jean-michel-tar
 allo-branches-1-a-la-biennale-panorama/
SUMMARY:Jean-Michel Tarallo - BRANCHES.1 à la Biennale PANORAMA
DESCRIPTION:Du 6 mai au 1er novembre 2026\nÀ l’occasion de la Biennale P
 ANORAMA\, l’artiste plasticien et designer Jean-Michel Tarallo présente
  BRANCHES.1\, une installation singulière entre readymade et arte povera.
 \n\nComposée de fragments d’arbres minutieusement sélectionnés\, cett
 e série donne naissance à de nouvelles présences végétales\, à la fo
 is troublantes et poétiques. Par un assemblage presque invisible\, des br
 anches de tilleul s’unissent bout à bout comme si elles avaient poussé
  ainsi naturellement\, sans tronc\, sans racine\, sans origine identifiabl
 e. Entre végétal\, animal\, artefact et apparition\, ces formes hybrides
  viennent perturber notre perception.\nÀ première vue\, le regard croit 
 reconnaître une simple branche. Mais très vite\, l’étrangeté surgit 
 : la forme devient énigme\, souvenir de nature\, présence vivante presqu
 e insaisissable. L’intervention de Jean-Michel Tarallo se fait minimale\
 , discrète\, presque effacée. L’artiste ne transforme pas la matière 
 de façon spectaculaire : il révèle ce qu’elle contient déjà\, dans 
 une démarche silencieuse et sensible.\nPrésentée contre un mur\, l’in
 stallation devient un dessin vertical qui active l’espace du centre d’
 art contemporain l’ar[T]senal avec une énergie organique singulière. B
 RANCHES.1 invite ainsi à ralentir le regard et à redécouvrir la puissan
 ce fragile de formes que l’on croyait familières.\nCette exposition s
 ’inscrit dans la 1re Biennale Arts &amp\; Métiers d’Art en patrimoine
  d’Eure-et-Loir\, portée par le centre d’art contemporain l’ar[T]se
 nal\, le Musée d’art et d’Histoire\, les Ateliers Camade ainsi que le
 s associations Art et Clochers et Les Amis de l’ar[T]senal.\nLieu : Cent
 re d’art contemporain l’ar[T]senal\, DreuxDates : du 6 mai au 1er nove
 mbre 2026
ATTACH;FMTTYPE=image/jpeg:https://www.alternatif-art.com/wp-content/upload
 s/2026/04/Aff.A3-Expo-Biennale-panorama-026_page-0001-1086x1536.jpg1_.webp
CATEGORIES:Art contemporain,Expositions
LOCATION:L’ar[T]senal\, 13 Place Mésirard\, Dreux\, 28100 \, France
GEO:48.73551;1.364529
X-APPLE-STRUCTURED-LOCATION;VALUE=URI;X-ADDRESS=13 Place Mésirard\, Dreux\
 , 28100 \, France;X-APPLE-RADIUS=100;X-TITLE=L’ar[T]senal:geo:48.73551,1
 .364529
END:VEVENT
BEGIN:VTIMEZONE
TZID:Europe/Paris
X-LIC-LOCATION:Europe/Paris
BEGIN:DAYLIGHT
DTSTART:20260329T030000
TZOFFSETFROM:+0100
TZOFFSETTO:+0200
TZNAME:CEST
END:DAYLIGHT
BEGIN:STANDARD
DTSTART:20261025T020000
TZOFFSETFROM:+0200
TZOFFSETTO:+0100
TZNAME:CET
END:STANDARD
END:VTIMEZONE
END:VCALENDAR