BEGIN:VCALENDAR
VERSION:2.0
PRODID:-//wp-events-plugin.com//7.2.3.1//EN
TZID:Europe/Paris
X-WR-TIMEZONE:Europe/Paris
BEGIN:VEVENT
UID:91@alternatif-art.com
DTSTART;TZID=Europe/Paris:20240517T000000
DTEND;TZID=Europe/Paris:20240526T000000
DTSTAMP:20240512T203114Z
URL:https://www.alternatif-art.com/agenda-art-contemporain/exposition-jeta
 is-la-gabriel-folli/
SUMMARY:Exposition : J'ÉTAIS LÀ\, Gabriel Folli
DESCRIPTION:Gabriel Folli développe dans son travail des systèmes d’hyb
 ridation de procédés et d’images au point de produire les dessins les 
 plus composites qui soient. De l’image Polaroid ou numérique transposé
 e au dessin à l’encre\, au crayon de couleur ou au fusain sur un grand 
 nombre de matériaux trouvés\, jusqu’au geste du collage\, son travail 
 consiste à dresser un état des lieux du monde actuel\, qu’il soit géo
 politique\, économique\, socio-culturel ou artistique\, accueillant des r
 éférences empruntées à l’actualité\, à la poésie ou au cinéma\, 
 ainsi que citations et hommages.\n\n\n\nSon exposition à la galerie Sator
  rassemblera travaux récents et axes de recherche autour de l’étude de
  territoires traversés ces derniers mois. L’installation principale de 
 dessins reviendra notamment sur les œuvres réalisées lors de sa réside
 nce au Château de Servières à Marseille (à l’occasion du prix de la 
 Saison du Dessin Nord/Sud remporté en 2023).\n\nCes dessins seront confro
 ntés aux territoires du Nord\, souvenirs parfois intimes de l’artiste t
 out en répondant à des paysages plus lointains et plus anciens dans sa d
 émarche. Dans une relation proche du souvenir qui se confronte parfois à
  une réalité changeante\, Gabriel Folli n’hésite pas à modifier et c
 hanger des oeuvres plus anciennes. La mémoire évolue au même titre que 
 l’œuvre.\n\nUn mur composé spécialement pour l’espace de la galerie
  fera face à cette installation pour retrouver les sources premières du 
 travail de recherche de Gabriel Folli. En se répondant et en se compléta
 nt\, l’expositon nous invite à contempler ces territoires en constant c
 hangement tout en étant profondément ancrés dans nos mémoires individu
 elles.\n\nLe site de la Galerie Sator : https://galeriesator.com/homepage\
 n\n&nbsp\;
ATTACH;FMTTYPE=image/jpeg:https://www.alternatif-art.com/wp-content/upload
 s/2024/05/gabriel-folli-sator.gif
CATEGORIES:Art contemporain,Expositions
LOCATION:Galerie Sator Marais\, 8 passage des Gravilliers\, Paris\, 75003\,
  France
GEO:48.8635;2.357002
X-APPLE-STRUCTURED-LOCATION;VALUE=URI;X-ADDRESS=8 passage des Gravilliers\,
  Paris\, 75003\, France;X-APPLE-RADIUS=100;X-TITLE=Galerie Sator Marais:ge
 o:48.8635,2.357002
END:VEVENT
BEGIN:VTIMEZONE
TZID:Europe/Paris
X-LIC-LOCATION:Europe/Paris
BEGIN:DAYLIGHT
DTSTART:20240331T030000
TZOFFSETFROM:+0100
TZOFFSETTO:+0200
TZNAME:CEST
END:DAYLIGHT
END:VTIMEZONE
END:VCALENDAR