BEGIN:VCALENDAR
VERSION:2.0
PRODID:-//wp-events-plugin.com//7.2.3.1//EN
TZID:Europe/Paris
X-WR-TIMEZONE:Europe/Paris
BEGIN:VEVENT
UID:94@alternatif-art.com
DTSTART;TZID=Europe/Paris:20240531T100000
DTEND;TZID=Europe/Paris:20240720T183000
DTSTAMP:20240516T060520Z
URL:https://www.alternatif-art.com/agenda-art-contemporain/exposition-du-p
 aysage-chapitre-3-n5-galerie/
SUMMARY:Exposition : DU PAYSAGE… chapitre 3\, N5 Galerie
DESCRIPTION:La N5 Galerie vous propose une incursion dans des interprétati
 ons mentales du paysage\, sujet cher à tant de créateurs d’hier et d
 ’aujourd’hui. Reconnu officiellement comme un genre artistique à part
 ir 16e siècle\, le paysage a emprunté de multiples courants (classique\,
  romantique\, réaliste\, impressionniste\, …) jusqu’à s’affranchir
  des codes de la représentation.\n\n*** Livre : Paris 1874 : Invention de
  l'Impressionnisme via Cultura ***\n\nCadre idéal pour la narration\, la 
 réflexion personnelle de l’artiste dans ses œuvres est l’une des car
 actéristiques singulières de ce mouvement perpétuellement réinterprét
 é. Faisant suite aux précédentes expositions présentées à la galerie
  en 2020 et 2022\, nous vous invitons aujourd’hui à parcourir dans ce t
 roisième chapitre les univers de Laure Boin\, Silvia Cabezas Pizarro\, Ma
 rc Lambert et Sandrine Le Maguer.\n\nPlus d'infos sur le site de la galeri
 e...
ATTACH;FMTTYPE=image/jpeg:https://www.alternatif-art.com/wp-content/upload
 s/2024/05/n5_galerie_exposition-paysages-peinture-dessin-art_contemporain-
 montpellier-juin-juillet-2024-web1.jpg
CATEGORIES:Art contemporain,Expositions
LOCATION:N5 Galerie\, 5 rue Sainte Anne\, Montpellier\, 34000\, France
GEO:43.609774;3.874794
X-APPLE-STRUCTURED-LOCATION;VALUE=URI;X-ADDRESS=5 rue Sainte Anne\, Montpel
 lier\, 34000\, France;X-APPLE-RADIUS=100;X-TITLE=N5 Galerie:geo:43.609774,
 3.874794
END:VEVENT
BEGIN:VTIMEZONE
TZID:Europe/Paris
X-LIC-LOCATION:Europe/Paris
BEGIN:DAYLIGHT
DTSTART:20240331T030000
TZOFFSETFROM:+0100
TZOFFSETTO:+0200
TZNAME:CEST
END:DAYLIGHT
END:VTIMEZONE
END:VCALENDAR