BEGIN:VCALENDAR
VERSION:2.0
PRODID:-//wp-events-plugin.com//7.2.3.1//EN
TZID:Europe/Paris
X-WR-TIMEZONE:Europe/Paris
BEGIN:VEVENT
UID:93@alternatif-art.com
DTSTART;TZID=Europe/Paris:20240515T000000
DTEND;TZID=Europe/Paris:20240602T000000
DTSTAMP:20240515T050538Z
URL:https://www.alternatif-art.com/agenda-art-contemporain/exposition-dess
 in-ephemere-installation-in-situ-danne-leigniel/
SUMMARY:Exposition : DESSIN ÉPHÉMÈRE\, Installation in situ d'Anne Leign
 iel
DESCRIPTION:L’installation “Dessin éphémère“ prend la serre du Squ
 are des Batignolles comme toile de fond. Un chapiteau de cristal abritant 
 un spectacle abstrait de couleurs et de formes fluides\, de lignes de mouv
 ement où se mêlent ombres et lumières\, formant un dessin éphémère. 
 Cette installation est une relecture des dessins/peintures\, et du travail
  en trois dimensions de l’artiste. Des formes aux inspirations organique
 s en bois peint et découpé\, des objets de récupération glanés\, cré
 ent le visuel dynamique et rythmé du kiosque. Les éléments suspendus pa
 r des fils sont une réminiscence et une inspiration des théâtres de mar
 ionnettes et des manèges des jardins parisiens.\n\nEspace de jeu visuel\,
  l’installation est une invitation à une observation poétique en écho
  à la beauté du jardin environnant\, au mouvement des arbres et à la ci
 rculation des visiteurs.\n\n&nbsp\;\n\n\n\n\n\n\n\n\n\nAnne Leigniel\, est
  une artiste française qui vit et travaille à Londres. Elle a étudié 
 à l’Ecole Nationale d’art de Paris Cergy et au London College of prin
 ting à Londres où elle a obtenu un Master en photographie. Elle passe li
 brement d’un médium à l’autre et utilise\, selon son inspiration et 
 les besoins de ses recherches : photographie\, installation\, performance\
 , vidéo\, sculpture et dessin...\nAnne Leigniel a exposé dans de nombreu
 ses galeries à travers le monde et son travail se trouve dans des collect
 ions privées et publiques\, notamment à la Bibliothèque Nationale de Fr
 ance et au Woodstock Center for Photography à New York. Elle est membre d
 u London Group.\n\nSite du K.A.B.
ATTACH;FMTTYPE=image/jpeg:https://www.alternatif-art.com/wp-content/upload
 s/2024/05/Anne-Leigniel.jpg
CATEGORIES:Art contemporain
LOCATION:LE K.A.B.\, Place Charles Fillion  Square des Batignolles\, PARIS\
 , 75017\, France
GEO:48.887864;2.316943
X-APPLE-STRUCTURED-LOCATION;VALUE=URI;X-ADDRESS=Place Charles Fillion  Squa
 re des Batignolles\, PARIS\, 75017\, France;X-APPLE-RADIUS=100;X-TITLE=LE 
 K.A.B.:geo:48.887864,2.316943
END:VEVENT
BEGIN:VTIMEZONE
TZID:Europe/Paris
X-LIC-LOCATION:Europe/Paris
BEGIN:DAYLIGHT
DTSTART:20240331T030000
TZOFFSETFROM:+0100
TZOFFSETTO:+0200
TZNAME:CEST
END:DAYLIGHT
END:VTIMEZONE
END:VCALENDAR