BEGIN:VCALENDAR
VERSION:2.0
PRODID:-//wp-events-plugin.com//7.2.3.1//EN
TZID:Europe/Paris
X-WR-TIMEZONE:Europe/Paris
BEGIN:VEVENT
UID:231@alternatif-art.com
DTSTART;TZID=Europe/Paris:20260423T000000
DTEND;TZID=Europe/Paris:20260426T000000
DTSTAMP:20260419T173948Z
URL:https://www.alternatif-art.com/agenda-art-contemporain/exposition-carn
 et-blanc-herbier-sensations-paysage/
SUMMARY:Exposition : CARNET BLANC\, herbier sensations paysage
DESCRIPTION:CARNET BLANC est une exposition collective à découvrir du 23 
 au 26 avril\, avec un vernissage le jeudi 23 avril à 19h08. L’expositio
 n est ouverte de 11h à 20h et l’entrée est libre.\nNée d’un projet 
 initié en 2017 par Marjorie Méa\, CARNET BLANC\, herbier sensations pays
 age s’inscrit dans une expérience de création partagée autour du temp
 s\, de l’absence\, du désir et de la transmission. Le principe : réali
 ser un carnet par mois mêlant dessin et poésie\, puis le confier pendant
  un an à une personne accueillante\, libre d’y intervenir\, de le prolo
 nger\, de l’altérer ou de ne rien y toucher. Au retour\, chaque carnet 
 devient la trace vivante d’un temps passé ailleurs\, enrichi d’une au
 tre présence.\nL’exposition réunit les fruits de cette expérience men
 ée avec Patricia Cartereau\, Gilles Clément\, Pierre-Alain Huart\, Georg
 es Lemoine\, Éric Lenoir\, Ramuntcho Matta\, Julie Perin\, Éric Pessan e
 t Esther Salmona. Au-delà de l’installation de CARNET BLANC\, le public
  pourra également découvrir une sélection sensible de dessins\, ouvrage
 s\, carnets et multiples réalisés par les artistes\, autrices\, auteurs\
 , poétesses\, poètes et jardiniers associés au projet.\nCette expositio
 n collective interroge la collaboration entre univers artistiques\, la cir
 culation des gestes et la manière dont une œuvre peut se construire à p
 lusieurs\, dans la durée\, selon un protocole à la fois ouvert et délic
 at.\nUne proposition brève\, intense et précieuse\, à découvrir en pre
 nant le temps de regarder et de feuilleter.
ATTACH;FMTTYPE=image/jpeg:https://www.alternatif-art.com/wp-content/upload
 s/2026/04/Carnet-Blanc-affiche-scaled.jpg
CATEGORIES:Art contemporain,Expositions
LOCATION:20/22 ATELIER\, 22 avenue Émile Genevoix\, DUN LE PALESTEL\, 2380
 0\, France
GEO:46.30464;1.669644
X-APPLE-STRUCTURED-LOCATION;VALUE=URI;X-ADDRESS=22 avenue Émile Genevoix\,
  DUN LE PALESTEL\, 23800\, France;X-APPLE-RADIUS=100;X-TITLE=20/22 ATELIER
 :geo:46.30464,1.669644
END:VEVENT
BEGIN:VTIMEZONE
TZID:Europe/Paris
X-LIC-LOCATION:Europe/Paris
BEGIN:DAYLIGHT
DTSTART:20260329T030000
TZOFFSETFROM:+0100
TZOFFSETTO:+0200
TZNAME:CEST
END:DAYLIGHT
END:VTIMEZONE
END:VCALENDAR