BEGIN:VCALENDAR
VERSION:2.0
PRODID:-//wp-events-plugin.com//7.2.3.1//EN
TZID:Europe/Paris
X-WR-TIMEZONE:Europe/Paris
BEGIN:VEVENT
UID:92@alternatif-art.com
DTSTART;TZID=Europe/Paris:20240524T000000
DTEND;TZID=Europe/Paris:20240926T000000
DTSTAMP:20240514T061502Z
URL:https://www.alternatif-art.com/agenda-art-contemporain/exposition-arti
 ficiel-de-marie-vandoore/
SUMMARY:Exposition : "Artificiel" de Marie Vandooren
DESCRIPTION:« L’homme sape et hache dans la nature. Il s’oppose à ell
 e\, l’y combat\, s’y installe. Travail puéril et magnifique ! » Le 
 Corbusier\, Urbanisme\, 1925\n\nInspiré par la manière d’habiter le mo
 nde\, le travail de Marie Vandooren puise principalement dans les espaces 
 fabriqués et exploités par l’homme. Elle interroge l’environnement p
 roche et la banalité des espaces qui nous entoure. En travaillant notamme
 nt sur différentes séries en lien avec les équipements sportifs et le m
 obilier urbain.\n\n\n\nSa pratique multiplie les médiums et les croise af
 in de produire un travail de mise en scène\, de superposition et d’oppo
 sition. Avec pour point de départ la photographie argentique\, elle mène
  différentes recherches en peinture et en sérigraphie en s’inspirant p
 articulièrement des éléments qui jalonnent notre environnement proche. 
 Elle met ainsi en lumière la reproduction des espaces sur chaque territoi
 re\, interrogeant leur artificialisation et l’intervention de l’homme 
 sur le paysage. Pour ses recherches en cours\, elle développe un travail 
 autour de la trame et de sa vibration.\n\nPartant de ses photographies don
 t elle extirpe un bout de matière\, elle accentue le grain en jouant avec
  la grosseur et le style de trame\, créant des images hypnotiques et parf
 ois dérangeantes.\n\nPlus d'infos
ATTACH;FMTTYPE=image/jpeg:https://www.alternatif-art.com/wp-content/upload
 s/2024/05/Marie-Vandoore.jpg
CATEGORIES:Art contemporain,Expositions
LOCATION:L'aparté\, Lac de Trémelin\, Iffendic\, 35750\, France
GEO:48.102158;-2.031902
X-APPLE-STRUCTURED-LOCATION;VALUE=URI;X-ADDRESS=Lac de Trémelin\, Iffendic
 \, 35750\, France;X-APPLE-RADIUS=100;X-TITLE=L'aparté:geo:48.102158,-2.03
 1902
END:VEVENT
BEGIN:VTIMEZONE
TZID:Europe/Paris
X-LIC-LOCATION:Europe/Paris
BEGIN:DAYLIGHT
DTSTART:20240331T030000
TZOFFSETFROM:+0100
TZOFFSETTO:+0200
TZNAME:CEST
END:DAYLIGHT
END:VTIMEZONE
END:VCALENDAR