BEGIN:VCALENDAR
VERSION:2.0
PRODID:-//wp-events-plugin.com//7.2.3.1//EN
TZID:Europe/Paris
X-WR-TIMEZONE:Europe/Paris
BEGIN:VEVENT
UID:208@alternatif-art.com
DTSTART;TZID=Europe/Paris:20260304T000000
DTEND;TZID=Europe/Paris:20260328T000000
DTSTAMP:20260227T082711Z
URL:https://www.alternatif-art.com/agenda-art-contemporain/direction-mars/
SUMMARY:Direction mars !
DESCRIPTION:Le mois de mars se profile à La Galerie Miniature et quoi de m
 ieux\, pour cheminer vers le printemps\, que les singuliers véhicules de 
 Dominique Lemoine ! Les dessins de l'artiste ardennais rejoignent le kiosq
 ue\, avec les peintures grands formats et photos de Chanari\, les linograv
 ures de MKA\, les peintures d'Edith Donc\, les encres et aquarelles de Pie
 rre Charpentier\, les dessins et gravures de Sam Ectoplasm et les cyanotyp
 es (photo argentique) de Matthieu Kedzierski.\nPlusieurs artistes de févr
 ier prolongent leur présence : Claire Temporal (sculptures os et dentelle
 )\, Nadya Olcer (dessin-peinture)\, Bera Roze (peinture)\, Laure B. (peint
 ures-collages)\, Flora Guéton (assemblages sur bouchons). Et toujours les
  travaux de Didier Gianella (collages) et Emmanuelle de Rosa (détournemen
 ts)\, fondateurs de l'association Automatikart et La Galerie Miniature.\n\
 nRendez-vous pour un "presque vernissage" samedi 7 mars de 17h30 à 19h30 
 en présence de plusieurs des artistes exposants.\n\nL'exposition se tiend
 ra du 4 au 28 mars.\n\nLa Galerie Miniature est ouverte du mercredi au sam
 edi de 14h à 19h. Entrée libre.
ATTACH;FMTTYPE=image/jpeg:https://www.alternatif-art.com/wp-content/upload
 s/2026/02/visu-mars-2026-ff36c428023661c5b9e8bdbb7625f05e1-scaled.jpg
CATEGORIES:Art contemporain,Expositions
LOCATION:La Galerie Miniature - Aix-en-Provence\, Place Bellegarde\, Aix-en
 -Provence\, 13100\, France
GEO:43.532096;5.451196
X-APPLE-STRUCTURED-LOCATION;VALUE=URI;X-ADDRESS=Place Bellegarde\, Aix-en-P
 rovence\, 13100\, France;X-APPLE-RADIUS=100;X-TITLE=La Galerie Miniature -
  Aix-en-Provence:geo:43.532096,5.451196
END:VEVENT
BEGIN:VTIMEZONE
TZID:Europe/Paris
X-LIC-LOCATION:Europe/Paris
BEGIN:STANDARD
DTSTART:20251026T020000
TZOFFSETFROM:+0200
TZOFFSETTO:+0100
TZNAME:CET
END:STANDARD
END:VTIMEZONE
END:VCALENDAR