BEGIN:VCALENDAR
VERSION:2.0
PRODID:-//wp-events-plugin.com//7.2.3.1//EN
TZID:Europe/Paris
X-WR-TIMEZONE:Europe/Paris
BEGIN:VEVENT
UID:233@alternatif-art.com
DTSTART;TZID=Europe/Paris:20260423T000000
DTEND;TZID=Europe/Paris:20260619T000000
DTSTAMP:20260421T135450Z
URL:https://www.alternatif-art.com/agenda-art-contemporain/architectures-s
 ensuelles-peihang-benoit/
SUMMARY:Architectures sensuelles - Peihang Benoit
DESCRIPTION:Du 23 avril au 19 juin 2026\, l’espace temps à Paris présen
 te Architectures sensuelles\, une exposition de l’artiste Peihang Benoit
 \, sous le commissariat de Laurent Quénéhen. Le vernissage aura lieu le 
 23 avril 2026 à partir de 18h.\nÀ travers une peinture intense et habit
 ée\, Peihang Benoit développe une œuvre où se mêlent abstraction\, se
 nsations\, fragments du corps\, paysages intérieurs et forces du vivant. 
 Sa pratique fait dialoguer mémoire\, mouvement\, matière et couleur dans
  des compositions traversées par une grande énergie sensible.\nNée à T
 aipei en 1984\, l’artiste a vécu à Taïwan\, aux États-Unis\, au Roya
 ume-Uni et en France. Ce parcours nourrit une œuvre marquée par les circ
 ulations culturelles\, la transformation et la fluidité des formes.\nInfo
 rmations pratiquesExposition : Architectures sensuellesArtiste : Peihang B
 enoitCurateur : Laurent QuénéhenDates : du 23 avril au 19 juin 2026Verni
 ssage : 23 avril 2026 à partir de 18hLieu : espace temps\, 98 rue Quincam
 poix\, 75003 ParisHoraires : du mercredi au samedi\, de 14h à 19h\n[dflip
  id="23839"][/dflip]
ATTACH;FMTTYPE=image/jpeg:https://www.alternatif-art.com/wp-content/upload
 s/2026/04/architectures-sensuelles.png
CATEGORIES:Art contemporain,Expositions
LOCATION:Galerie espace temps\, 98 rue Quincampoix\, 75003\, Paris\, France
GEO:48.862953;2.351528
X-APPLE-STRUCTURED-LOCATION;VALUE=URI;X-ADDRESS=98 rue Quincampoix\, 75003\
 , Paris\, France;X-APPLE-RADIUS=100;X-TITLE=Galerie espace temps:geo:48.86
 2953,2.351528
END:VEVENT
BEGIN:VTIMEZONE
TZID:Europe/Paris
X-LIC-LOCATION:Europe/Paris
BEGIN:DAYLIGHT
DTSTART:20260329T030000
TZOFFSETFROM:+0100
TZOFFSETTO:+0200
TZNAME:CEST
END:DAYLIGHT
END:VTIMEZONE
END:VCALENDAR